BEGIN:VCALENDAR
VERSION:2.0
PRODID:-//eventon.com NONSGML v1.0//EN
BEGIN:VEVENT
UID:69e5e96141d57
DTSTAMP:20260420T095249
DTSTART:20190815T110000Z
DTEND:20190818T225900Z
LOCATION:Restaurant l'Hallegria Place Pierre Sémard Béziers
SUMMARY:Féria à l'Hallegria
DESCRIPTION: [siteorigin_widget class="SiteOrigin_Widget_Headline_Widget"][/siteorigin_widget]Carte de la Féria ENTREES Assiette de 6 huitres de Marseillan Piquillos farcis à la salade de morue Terrine de volaille aux piments d’Espelette Pana cotta parmesan coulis de piquillos Foie gras à la truffe d'été d'Occitanie PLATS Pavé de thon Magret de canard aux cèpes Filet de bœuf[..]
END:VEVENT
END:VCALENDAR