BEGIN:VCALENDAR
VERSION:2.0
PRODID:-//eventon.com NONSGML v1.0//EN
BEGIN:VEVENT
UID:69e60b0689ee6
DTSTAMP:20260420T121622
DTSTART:20200312T190000Z
DTEND:20200312T225000Z
LOCATION:Restaurant l'Hallegria Place Pierre Sémard Béziers
SUMMARY:Duo Ribeiro Bernon
DESCRIPTION: Le guitariste Pierre Bernon d'Ambrosio ( découvert dans son rôle de Django Reinhardt dans la pièce primée au festival d'Avignon "Beethoven\,  ce manouche" ) rencontre la chanteuse brésilienne Carollina Chaves Ribeiro autour d'un répertoire qui laisse la part belle à la douceur du répertoire brésilien à la virtuosité du jeu[..]
END:VEVENT
END:VCALENDAR