BEGIN:VCALENDAR
VERSION:2.0
PRODID:-//eventon.com NONSGML v1.0//EN
BEGIN:VEVENT
UID:69ec261025e1c
DTSTAMP:20260425T032520
DTSTART:20200117T180000Z
DTEND:20200117T225000Z
LOCATION:
SUMMARY:Soirée Choucroute
DESCRIPTION: @import url(https://www.hallegria.com/wp-content/plugins/siteorigin-panels/css/front-flex.min.css); #pgc-1139-0-0 { width:100%;width:calc(100% - ( 0 * 30px ) ) } #pl-1139 #panel-1139-0-0-0 { } #pl-1139 .so-panel { margin-bottom:30px } #pl-1139 .so-panel:last-child { margin-bottom:0px } @media (max-width:780px){ #pg-1139-0.panel-no-style\,  #pg-1139-0.panel-has-style > .panel-row-style { -webkit-flex-direction:column;-ms-flex-direction:column;flex-direction:column } #pg-1139-0 > .panel-grid-cell \,  #pg-1139-0 > .panel-row-style > .panel-grid-cell { width:100%;margin-right:0 } #pl-1139 .panel-grid-cell[..]
END:VEVENT
END:VCALENDAR