BEGIN:VCALENDAR
VERSION:2.0
PRODID:-//eventon.com NONSGML v1.0//EN
BEGIN:VEVENT
UID:69e9004f33eb2
DTSTAMP:20260422T180727
DTSTART:20200131T190000Z
DTEND:20200131T225000Z
LOCATION:Restaurant l'Hallegria Place Pierre Sémard Béziers
SUMMARY:L'ÂME DE LA CHANSON
DESCRIPTION: @import url(https://www.hallegria.com/wp-content/plugins/siteorigin-panels/css/front-flex.min.css); #pgc-1135-0-0 { width:100%;width:calc(100% - ( 0 * 30px ) ) } #pl-1135 #panel-1135-0-0-0 { } #pl-1135 .so-panel { margin-bottom:30px } #pl-1135 .so-panel:last-child { margin-bottom:0px } @media (max-width:780px){ #pg-1135-0.panel-no-style\,  #pg-1135-0.panel-has-style > .panel-row-style { -webkit-flex-direction:column;-ms-flex-direction:column;flex-direction:column } #pg-1135-0 > .panel-grid-cell \,  #pg-1135-0 > .panel-row-style > .panel-grid-cell { width:100%;margin-right:0 } #pl-1135 .panel-grid-cell[..]
END:VEVENT
END:VCALENDAR