BEGIN:VCALENDAR
VERSION:2.0
PRODID:-//eventon.com NONSGML v1.0//EN
BEGIN:VEVENT
UID:69e8cc936932b
DTSTAMP:20260422T142643
DTSTART:20200117T070000Z
DTEND:20200117T110000Z
LOCATION:Restaurant l'Hallegria Place Pierre Sémard Béziers
SUMMARY:Les GRANDES GUEULES EN DIRECT
DESCRIPTION: @import url(https://www.hallegria.com/wp-content/plugins/siteorigin-panels/css/front-flex.min.css); #pgc-1133-0-0 { width:100%;width:calc(100% - ( 0 * 30px ) ) } #pl-1133 #panel-1133-0-0-0 { } #pl-1133 .so-panel { margin-bottom:30px } #pl-1133 .so-panel:last-child { margin-bottom:0px } @media (max-width:780px){ #pg-1133-0.panel-no-style\,  #pg-1133-0.panel-has-style > .panel-row-style { -webkit-flex-direction:column;-ms-flex-direction:column;flex-direction:column } #pg-1133-0 > .panel-grid-cell \,  #pg-1133-0 > .panel-row-style > .panel-grid-cell { width:100%;margin-right:0 } #pl-1133 .panel-grid-cell[..]
END:VEVENT
END:VCALENDAR