BEGIN:VCALENDAR
VERSION:2.0
PRODID:-//eventon.com NONSGML v1.0//EN
BEGIN:VEVENT
UID:69e8cd0879c1a
DTSTAMP:20260422T142840
DTSTART:20191205T173000Z
DTEND:20191205T225000Z
LOCATION:
SUMMARY:LA VINTAGE AFTERWORK MUSIC'HALLES
DESCRIPTION: @import url(https://www.hallegria.com/wp-content/plugins/siteorigin-panels/css/front-flex.min.css); #pgc-1097-0-0 { width:100%;width:calc(100% - ( 0 * 30px ) ) } #pl-1097 #panel-1097-0-0-0 { } #pl-1097 .so-panel { margin-bottom:30px } #pl-1097 .so-panel:last-child { margin-bottom:0px } @media (max-width:780px){ #pg-1097-0.panel-no-style\,  #pg-1097-0.panel-has-style > .panel-row-style { -webkit-flex-direction:column;-ms-flex-direction:column;flex-direction:column } #pg-1097-0 > .panel-grid-cell \,  #pg-1097-0 > .panel-row-style > .panel-grid-cell { width:100%;margin-right:0 } #pl-1097 .panel-grid-cell[..]
END:VEVENT
END:VCALENDAR